BEGIN:VCALENDAR
VERSION:2.0
CALSCALE:GREGORIAN
METHOD:PUBLISH
BEGIN:VTIMEZONE
TZID:Europe/Stockholm
BEGIN:STANDARD
DTSTART:19700101T030000
RRULE:FREQ=YEARLY;BYDAY=-1SU;BYMONTH=10
TZOFFSETFROM:+0200
TZOFFSETTO:+0100
END:STANDARD
BEGIN:DAYLIGHT
DTSTART:19700101T020000
RRULE:FREQ=YEARLY;BYDAY=-1SU;BYMONTH=3
TZOFFSETFROM:+0100
TZOFFSETTO:+0200
END:DAYLIGHT
END:VTIMEZONE
BEGIN:VEVENT
UID:26 april kl 12:00 - 14:00@www.alvsbyhus.se
DTSTAMP:20260422T060957Z
SUMMARY:Viewing: Åse i Timrå
DTSTART;TZID=Europe/Stockholm:20260426T120000
DTEND;TZID=Europe/Stockholm:20260426T140000
DESCRIPTION:Välkommen på visning av Åse i Timrå!\nVägbeskrivning: https://m
 aps.app.goo.gl/Kb7gfsLb84Le5GLe9\n\nLäs mer: https://www.alvsbyhus.se/visn
 ingar/ase-i-timra/
LOCATION:Höjdvägen 1 A\, 861 45 Fagervik\, Timrå
URL:https://www.alvsbyhus.se/visningar/ase-i-timra/
BEGIN:VALARM
TRIGGER:-PT24H
ACTION:DISPLAY
DESCRIPTION:Reminder
END:VALARM
BEGIN:VALARM
TRIGGER:-PT1H
ACTION:DISPLAY
DESCRIPTION:Reminder
END:VALARM
END:VEVENT
END:VCALENDAR
